BEGIN:VCALENDAR
VERSION:2.0
PRODID:-//Bethesda Therapy for Adults, Children &amp; Parents | Your Best Self Therapy - ECPv6.15.20//NONSGML v1.0//EN
CALSCALE:GREGORIAN
METHOD:PUBLISH
X-ORIGINAL-URL:https://yourbestselftherapy.com
X-WR-CALDESC:Events for Bethesda Therapy for Adults, Children &amp; Parents | Your Best Self Therapy
REFRESH-INTERVAL;VALUE=DURATION:PT1H
X-Robots-Tag:noindex
X-PUBLISHED-TTL:PT1H
BEGIN:VTIMEZONE
TZID:UTC
BEGIN:STANDARD
TZOFFSETFROM:+0000
TZOFFSETTO:+0000
TZNAME:UTC
DTSTART:20220101T000000
END:STANDARD
END:VTIMEZONE
BEGIN:VEVENT
DTSTART;TZID=UTC:20230207T081500
DTEND;TZID=UTC:20230207T083000
DTSTAMP:20260422T093452
CREATED:20230207T131511Z
LAST-MODIFIED:20230215T015513Z
UID:8478-1675757700-1675758600@yourbestselftherapy.com
SUMMARY:DC News Now
DESCRIPTION:YBS is thrilled to have been asked back by @wdvmtv to share our mental health knowledge. \nhttps://yourbestselftherapy.com/wp-content/uploads/2023/02/Britt-Video-1.mp4
URL:https://yourbestselftherapy.com/event/dc-news-now-2/
CATEGORIES:Depression,Learning,Organization,Play Therapy
ATTACH;FMTTYPE=image/png:https://yourbestselftherapy.com/wp-content/uploads/2023/01/Screen-Shot-2023-02-14-at-3.50.49-PM.png
END:VEVENT
END:VCALENDAR